BEGIN:VCALENDAR
VERSION:2.0
PRODID:-//Mayfair Art Studios - ECPv6.15.20//NONSGML v1.0//EN
CALSCALE:GREGORIAN
METHOD:PUBLISH
X-WR-CALNAME:Mayfair Art Studios
X-ORIGINAL-URL:https://mayfairartstudios.org
X-WR-CALDESC:Events for Mayfair Art Studios
REFRESH-INTERVAL;VALUE=DURATION:PT1H
X-Robots-Tag:noindex
X-PUBLISHED-TTL:PT1H
BEGIN:VTIMEZONE
TZID:America/New_York
BEGIN:DAYLIGHT
TZOFFSETFROM:-0500
TZOFFSETTO:-0400
TZNAME:EDT
DTSTART:20220313T070000
END:DAYLIGHT
BEGIN:STANDARD
TZOFFSETFROM:-0400
TZOFFSETTO:-0500
TZNAME:EST
DTSTART:20221106T060000
END:STANDARD
BEGIN:DAYLIGHT
TZOFFSETFROM:-0500
TZOFFSETTO:-0400
TZNAME:EDT
DTSTART:20230312T070000
END:DAYLIGHT
BEGIN:STANDARD
TZOFFSETFROM:-0400
TZOFFSETTO:-0500
TZNAME:EST
DTSTART:20231105T060000
END:STANDARD
BEGIN:DAYLIGHT
TZOFFSETFROM:-0500
TZOFFSETTO:-0400
TZNAME:EDT
DTSTART:20240310T070000
END:DAYLIGHT
BEGIN:STANDARD
TZOFFSETFROM:-0400
TZOFFSETTO:-0500
TZNAME:EST
DTSTART:20241103T060000
END:STANDARD
BEGIN:DAYLIGHT
TZOFFSETFROM:-0500
TZOFFSETTO:-0400
TZNAME:EDT
DTSTART:20250309T070000
END:DAYLIGHT
BEGIN:STANDARD
TZOFFSETFROM:-0400
TZOFFSETTO:-0500
TZNAME:EST
DTSTART:20251102T060000
END:STANDARD
BEGIN:DAYLIGHT
TZOFFSETFROM:-0500
TZOFFSETTO:-0400
TZNAME:EDT
DTSTART:20260308T070000
END:DAYLIGHT
BEGIN:STANDARD
TZOFFSETFROM:-0400
TZOFFSETTO:-0500
TZNAME:EST
DTSTART:20261101T060000
END:STANDARD
END:VTIMEZONE
BEGIN:VEVENT
DTSTART;TZID=America/New_York:20251206T100000
DTEND;TZID=America/New_York:20251206T170000
DTSTAMP:20260424T120110
CREATED:20250825T190847Z
LAST-MODIFIED:20251014T150813Z
UID:7329-1765015200-1765040400@mayfairartstudios.org
SUMMARY:Mistletoe Market- 2025
DESCRIPTION:Our annual holiday market boasts a huge variety of artistic vendors specializing in nearly every field imaginable: Stained glass\, paint\, jewelry\, paper based\, mixed media\, ceramics – all focused on handcrafted gifts for the holidays. Not to mention our live holiday music\, prizes\, and winter comfort sweets to make the experience even more cozy. Your one-stop shop for everything this season! Join us for a free experience between 10:00 am – 5:00 pm.  \nSee you there!
URL:https://mayfairartstudios.org/event/mistletoe-market-2025/
ATTACH;FMTTYPE=image/png:https://mayfairartstudios.org/wp-content/uploads/2025/08/Mistletoe-2.png
END:VEVENT
BEGIN:VEVENT
DTSTART;TZID=America/New_York:20251201T170000
DTEND;TZID=America/New_York:20251201T190000
DTSTAMP:20260424T120110
CREATED:20251201T150622Z
LAST-MODIFIED:20251201T150622Z
UID:7375-1764608400-1764615600@mayfairartstudios.org
SUMMARY:Intro To Wheel Throwing - Pottery Wheel Basics
DESCRIPTION:This class is for beginners who are interested in pursuing a foundational knowledge of ceramics and throwing on a wheel! NO experience is required- Hope to see you there! \n Reserve Your Experience
URL:https://mayfairartstudios.org/event/intro-to-wheel-throwing-pottery-wheel-basics-3/
END:VEVENT
BEGIN:VEVENT
DTSTART;TZID=America/New_York:20251120T183000
DTEND;TZID=America/New_York:20251120T193000
DTSTAMP:20260424T120110
CREATED:20251118T143106Z
LAST-MODIFIED:20251120T180758Z
UID:7364-1763663400-1763667000@mayfairartstudios.org
SUMMARY:Workshop - Video Editing
DESCRIPTION:In this month’s workshop\, we will walk through the basics of cutting footage\, adding music\, and shaping a simple story using accessible editing tools. Whether you are brand new to editing or looking to polish your skills\, this community-friendly session is a relaxed space to experiment\, ask questions\, and leave with practical techniques you can use right away.
URL:https://mayfairartstudios.org/event/workshop-video-editing/
ATTACH;FMTTYPE=image/jpeg:https://mayfairartstudios.org/wp-content/uploads/2025/11/qtq80-Q0Q532.jpeg
END:VEVENT
BEGIN:VEVENT
DTSTART;TZID=America/New_York:20251016T180000
DTEND;TZID=America/New_York:20251016T203000
DTSTAMP:20260424T120110
CREATED:20251010T184132Z
LAST-MODIFIED:20251010T184132Z
UID:7344-1760637600-1760646600@mayfairartstudios.org
SUMMARY:Open Mic
DESCRIPTION:Spartanburg has a rich musical heritage.\nWe know the future legends walk among us.\nWe’re stepping up for the local musicians who have a song to share. Any genre\, any way you can express it. \nIf you’d like to perform\, click the link below to learn more! \nOpen Mic Registration
URL:https://mayfairartstudios.org/event/open-mic-2/
ATTACH;FMTTYPE=image/png:https://mayfairartstudios.org/wp-content/uploads/2025/10/Mayfair.png
END:VEVENT
BEGIN:VEVENT
DTSTART;TZID=America/New_York:20251016T170000
DTEND;TZID=America/New_York:20251016T203000
DTSTAMP:20260424T120110
CREATED:20251009T164020Z
LAST-MODIFIED:20251009T164020Z
UID:7338-1760634000-1760646600@mayfairartstudios.org
SUMMARY:Art Walk
DESCRIPTION:Spartanburg ArtWalk is a free self-guided tour through participating galleries across Spartanburg. Stop by each 3rd Thursday of the month from 5:00 – 8:00 PM to enjoy Cocktails\, hor d’oeuvres\, and the Spartanburg cultural experience!
URL:https://mayfairartstudios.org/event/art-walk-3/
ATTACH;FMTTYPE=image/png:https://mayfairartstudios.org/wp-content/uploads/2025/10/Art-2.png
END:VEVENT
BEGIN:VEVENT
DTSTART;TZID=America/New_York:20251016T170000
DTEND;TZID=America/New_York:20251016T180000
DTSTAMP:20260424T120110
CREATED:20251016T150537Z
LAST-MODIFIED:20251016T150537Z
UID:7360-1760634000-1760637600@mayfairartstudios.org
SUMMARY:Workshop - Positive Affirmation Booklets!
DESCRIPTION:Keep it positive!\nCreate your own custom booklet to fill with reminders of your own worth and inner strength!\nFree to the public\, perfect for all ages. \nNo materials required. See you at Art Walk!
URL:https://mayfairartstudios.org/event/workshop-positive-affirmation-booklets/
ATTACH;FMTTYPE=image/jpeg:https://mayfairartstudios.org/wp-content/uploads/2025/10/Mary-Lou-Workshop.jpg
END:VEVENT
BEGIN:VEVENT
DTSTART;TZID=America/New_York:20251016T163000
DTEND;TZID=America/New_York:20251016T193000
DTSTAMP:20260424T120110
CREATED:20251010T184817Z
LAST-MODIFIED:20251010T184817Z
UID:7347-1760632200-1760643000@mayfairartstudios.org
SUMMARY:Ceramics - Open Studio ArtWalk
DESCRIPTION:
URL:https://mayfairartstudios.org/event/ceramics-open-studio-artwalk/
ATTACH;FMTTYPE=image/jpeg:https://mayfairartstudios.org/wp-content/uploads/2025/10/Ceramics-Flyer.jpg
END:VEVENT
BEGIN:VEVENT
DTSTART;TZID=America/New_York:20250904T183000
DTEND;TZID=America/New_York:20250904T203000
DTSTAMP:20260424T120110
CREATED:20250819T191743Z
LAST-MODIFIED:20250819T202216Z
UID:7321-1757010600-1757017800@mayfairartstudios.org
SUMMARY:Open Mic
DESCRIPTION:Our first Open Mic will be held on September 4\, 2025 inside our 2D studio. Free entry. \nSpartanburg has a rich musical heritage.\nWe know the future legends walk among us.\nWe’re stepping up for the local musicians who have a song to share. Any genre\, any way you can express it. \nIf you’d like to perform\, click the link below to learn more. \nOpen Mic Registration
URL:https://mayfairartstudios.org/event/open-mic/
ATTACH;FMTTYPE=image/png:https://mayfairartstudios.org/wp-content/uploads/2025/08/Open-Mic-2.png
END:VEVENT
BEGIN:VEVENT
DTSTART;VALUE=DATE:20250901
DTEND;VALUE=DATE:20251101
DTSTAMP:20260424T120110
CREATED:20251014T150511Z
LAST-MODIFIED:20251014T150511Z
UID:7351-1756684800-1761955199@mayfairartstudios.org
SUMMARY:Open Doors Artist Registration
DESCRIPTION:The Open Doors Studio Tour is a self-guided tour of artist studios that is free to the public. For two days the artists of Spartanburg County open their doors to the public! Artist registration will begin on September 1 and will remain open until the deadline of October 31. \nOpen Doors Website \nWant to participate as an artist? Sign up here for this amazing opportunity : \nOpen Doors Artist Registration
URL:https://mayfairartstudios.org/event/open-doors-artist-registration/
ATTACH;FMTTYPE=image/jpeg:https://mayfairartstudios.org/wp-content/uploads/2025/10/Open-Doors-2026-Artist-Call.jpg
END:VEVENT
BEGIN:VEVENT
DTSTART;TZID=America/New_York:20250617T180000
DTEND;TZID=America/New_York:20250617T190000
DTSTAMP:20260424T120110
CREATED:20250602T205203Z
LAST-MODIFIED:20250602T205203Z
UID:7315-1750183200-1750186800@mayfairartstudios.org
SUMMARY:Community Workshop- Quilting the Spartanburg Juneteenth Flag
DESCRIPTION:Join Dr Mary Lou Hightower for a quilting workshop commemorating the historic Spartanburg Juneteenth Flag. All materials provided! \nBook Your Space!
URL:https://mayfairartstudios.org/event/community-workshop-quilting-the-spartanburg-juneteenth-flag/
ATTACH;FMTTYPE=image/jpeg:https://mayfairartstudios.org/wp-content/uploads/2025/06/Mary-Lou-Juneteenth-Flag.jpg
END:VEVENT
BEGIN:VEVENT
DTSTART;TZID=America/New_York:20250617T170000
DTEND;TZID=America/New_York:20250617T180000
DTSTAMP:20260424T120110
CREATED:20250602T195843Z
LAST-MODIFIED:20250602T195843Z
UID:7310-1750179600-1750183200@mayfairartstudios.org
SUMMARY:Community Workshop - Bird Silhouettes
DESCRIPTION:Using simple tools – paper maps\, template\, scissors\, glue sticks – create a bird silhouette. Supplies provided! \nPaper artist Christina Laurel was inspired for this project by the London-based artist Claire Brewster. In Claire’s own words: “My birds\, insects and flowers transcend borders with scant regard for rules of immigration or the effects of biodiversity.” Christina’s bird silhouette can be an individual or collaborative project (among friends\, family\, classmates). Participants will walk away with finished artwork ready for the wall. \nLimited space\, so follow the link to reserve your spaces! \nBook Your Space!
URL:https://mayfairartstudios.org/event/community-workshop-bird-silhouettes/
ATTACH;FMTTYPE=image/jpeg:https://mayfairartstudios.org/wp-content/uploads/2025/06/Christine-Workshop-June-25.jpg
END:VEVENT
BEGIN:VEVENT
DTSTART;VALUE=DATE:20250426
DTEND;VALUE=DATE:20250428
DTSTAMP:20260424T120110
CREATED:20241121T135956Z
LAST-MODIFIED:20241121T135956Z
UID:7280-1745625600-1745798399@mayfairartstudios.org
SUMMARY:Open Doors Studio Tour 2025
DESCRIPTION:Open Doors is a self-guided studio tour of artists’ studios that is free to the public. For two days the artists of Spartanburg County open their doors to the public. \nClick Here To Explore Open Doors
URL:https://mayfairartstudios.org/event/open-doors-studio-tour-2025/
ATTACH;FMTTYPE=image/jpeg:https://mayfairartstudios.org/wp-content/uploads/2024/11/opendoors-2025.jpg
END:VEVENT
BEGIN:VEVENT
DTSTART;VALUE=DATE:20250114
DTEND;VALUE=DATE:20250115
DTSTAMP:20260424T120110
CREATED:20250114T204235Z
LAST-MODIFIED:20250114T205435Z
UID:7286-1736812800-1736899199@mayfairartstudios.org
SUMMARY:Ceramics | Intro to Wheel-Throwing
DESCRIPTION:Book Your Wheel Today!
URL:https://mayfairartstudios.org/event/intro-to-wheel-throwing/
ATTACH;FMTTYPE=image/jpeg:https://mayfairartstudios.org/wp-content/uploads/2024/11/Ceramics-Flyer-Nov-Dec-24-e1731015410747.jpg
END:VEVENT
BEGIN:VEVENT
DTSTART;TZID=America/New_York:20241207T100000
DTEND;TZID=America/New_York:20241207T170000
DTSTAMP:20260424T120110
CREATED:20241101T144908Z
LAST-MODIFIED:20241101T144908Z
UID:7261-1733565600-1733590800@mayfairartstudios.org
SUMMARY:Mistletoe Market 2024
DESCRIPTION:
URL:https://mayfairartstudios.org/event/mistletoe-market-2024/
ATTACH;FMTTYPE=image/png:https://mayfairartstudios.org/wp-content/uploads/2024/11/Mistletoe-Market-2024.png
END:VEVENT
BEGIN:VEVENT
DTSTART;TZID=America/New_York:20241204T170000
DTEND;TZID=America/New_York:20241204T190000
DTSTAMP:20260424T120110
CREATED:20241121T134727Z
LAST-MODIFIED:20241121T134727Z
UID:7275-1733331600-1733338800@mayfairartstudios.org
SUMMARY:Intro To Wheel-Throwing | Pottery Wheel Basics
DESCRIPTION:In our beginner wheel throwing class\, you’ll learn the basics of shaping clay on the wheel\, from centering to creating simple forms. Perfect for first-timers- Come relax\, create\, and take home a piece of art you made yourself! \nBook Your Wheel
URL:https://mayfairartstudios.org/event/intro-to-wheel-throwing-pottery-wheel-basics-2/
ATTACH;FMTTYPE=image/jpeg:https://mayfairartstudios.org/wp-content/uploads/2024/11/Ceramics-Flyer-Nov-Dec-24-e1731015410747.jpg
END:VEVENT
BEGIN:VEVENT
DTSTART;TZID=America/New_York:20241121T173000
DTEND;TZID=America/New_York:20241121T203000
DTSTAMP:20260424T120110
CREATED:20241121T135051Z
LAST-MODIFIED:20241121T135051Z
UID:7278-1732210200-1732221000@mayfairartstudios.org
SUMMARY:Art Walk
DESCRIPTION:
URL:https://mayfairartstudios.org/event/art-walk-2/
END:VEVENT
BEGIN:VEVENT
DTSTART;TZID=America/New_York:20241111T130000
DTEND;TZID=America/New_York:20241111T150000
DTSTAMP:20260424T120110
CREATED:20241107T213730Z
LAST-MODIFIED:20241107T213730Z
UID:7266-1731330000-1731337200@mayfairartstudios.org
SUMMARY:Ceramics | Intro to Wheel-Throwing
DESCRIPTION:In our beginner wheel throwing class\, you’ll learn the basics of shaping clay on the wheel\, from centering to creating simple forms. Perfect for first-timers- Come relax\, create\, and take home a piece of art you made yourself! \nBook Your Wheel
URL:https://mayfairartstudios.org/event/ceramics-intro-to-wheel-throwing/
ATTACH;FMTTYPE=image/jpeg:https://mayfairartstudios.org/wp-content/uploads/2024/11/Ceramics-Flyer-Nov-Dec-24-e1731015410747.jpg
END:VEVENT
BEGIN:VEVENT
DTSTART;TZID=America/New_York:20241017T173000
DTEND;TZID=America/New_York:20241017T193000
DTSTAMP:20260424T120110
CREATED:20241017T182634Z
LAST-MODIFIED:20241017T182634Z
UID:7257-1729186200-1729193400@mayfairartstudios.org
SUMMARY:Intro To Wheel-Throwing | Pottery Wheel Basics
DESCRIPTION:Interested in starting a journey in ceramics? Now’s the time. We’d love to make it accessible to you! Join instructor Leah Wesley for our newest class catered towards introductory level enthusiasts. Space is limited to 10 per class\, so head to the link below to book your space! Looking forward to seeing you there.
URL:https://mayfairartstudios.org/event/intro-to-wheel-throwing-pottery-wheel-basics/
END:VEVENT
BEGIN:VEVENT
DTSTART;TZID=America/New_York:20240718T180000
DTEND;TZID=America/New_York:20240718T203000
DTSTAMP:20260424T120110
CREATED:20240622T182556Z
LAST-MODIFIED:20240702T160728Z
UID:7253-1721325600-1721334600@mayfairartstudios.org
SUMMARY:Ceramics Kickoff Party
DESCRIPTION:
URL:https://mayfairartstudios.org/event/ceramics-kickoff-party/
END:VEVENT
BEGIN:VEVENT
DTSTART;TZID=America/New_York:20240718T173000
DTEND;TZID=America/New_York:20240718T203000
DTSTAMP:20260424T120110
CREATED:20240622T182439Z
LAST-MODIFIED:20240622T182439Z
UID:7251-1721323800-1721334600@mayfairartstudios.org
SUMMARY:Open Studios
DESCRIPTION:
URL:https://mayfairartstudios.org/event/open-studios/
END:VEVENT
BEGIN:VEVENT
DTSTART;TZID=America/New_York:20240620T160000
DTEND;TZID=America/New_York:20240620T200000
DTSTAMP:20260424T120110
CREATED:20240617T153527Z
LAST-MODIFIED:20240618T205827Z
UID:7247-1718899200-1718913600@mayfairartstudios.org
SUMMARY:Art Walk + Free Workshops!
DESCRIPTION:Join us on Thursday\, June 20th for Art Walk! This month also features two free workshops for you to choose from.  \n4:00pm-7:00pm: Paint Your Own Quilt Square Canvas hosted by Mary Lou Hightower \n5:00pm-8:00pm: Let’s Paint Rainbows! Hosted by Nancy Corbin \nNo supplies or experience needed. Materials and instruction will be provided- Suitable for all age and ability ranges. There is limited seating at both of the workshops- Reserve your space today. See you there!
URL:https://mayfairartstudios.org/event/art-walk-free-workshops/
END:VEVENT
BEGIN:VEVENT
DTSTART;TZID=America/New_York:20240425T180000
DTEND;TZID=America/New_York:20240425T193000
DTSTAMP:20260424T120110
CREATED:20240417T212726Z
LAST-MODIFIED:20240417T212726Z
UID:7234-1714068000-1714073400@mayfairartstudios.org
SUMMARY:Creative Conversations- Applying for Grants and Fellowships
DESCRIPTION:
URL:https://mayfairartstudios.org/event/creative-conversations-applying-for-grants-and-fellowships/
ATTACH;FMTTYPE=image/png:https://mayfairartstudios.org/wp-content/uploads/2024/04/image000000.png
END:VEVENT
BEGIN:VEVENT
DTSTART;VALUE=DATE:20240420
DTEND;VALUE=DATE:20240422
DTSTAMP:20260424T120110
CREATED:20240414T170855Z
LAST-MODIFIED:20240414T170855Z
UID:7230-1713571200-1713743999@mayfairartstudios.org
SUMMARY:Open Door Studio Tour
DESCRIPTION:The Open Doors Studio Tour is a self-guided tour of artists’ studios that is free to the public. For two days the artists of Spartanburg County open their studio doors to the public and we are proud to be one of several participating locations! \nVisit us Saturday or on Sunday!
URL:https://mayfairartstudios.org/event/open-door-studio-tour/
ATTACH;FMTTYPE=image/png:https://mayfairartstudios.org/wp-content/uploads/2024/04/2024-open-doors-logo-bold-horizontal.png
END:VEVENT
BEGIN:VEVENT
DTSTART;TZID=America/New_York:20240418T170000
DTEND;TZID=America/New_York:20240418T203000
DTSTAMP:20260424T120110
CREATED:20240417T212912Z
LAST-MODIFIED:20240417T212912Z
UID:7237-1713459600-1713472200@mayfairartstudios.org
SUMMARY:Art Walk
DESCRIPTION:
URL:https://mayfairartstudios.org/event/art-walk/
END:VEVENT
BEGIN:VEVENT
DTSTART;TZID=America/New_York:20240328T180000
DTEND;TZID=America/New_York:20240328T193000
DTSTAMP:20260424T120110
CREATED:20240313T161109Z
LAST-MODIFIED:20240313T161109Z
UID:7222-1711648800-1711654200@mayfairartstudios.org
SUMMARY:Creative Conversations: Your Deduction Checklist
DESCRIPTION:Mayfair Art Studios + Chapman Cultural Center are excited to invite you to our next Creative Conversations\, for creative professionals!\nStop by Mayfair Art Studios to hear Chapman Cultural Center President & CEO\, Dan Mayer\, provide a checklist of what you can and can not deduct on your taxes as creative professionals.\nApril 15th is right around the corner! Come learn how to do your taxes correctly for your creative business.\nBring your own questions as the event will feature an interactive presentation with the opportunity to ask questions throughout!\nAbout Dan Mayer\nFormerly the Executive Director of The ArtsCenter located in Carrboro\, North Carolina\, Dan has served numerous roles in the arts and cultural non-profit community including as the Development Director and later Executive Director of the Kirkland Performance Center\, in Kirkland\, WA.\nDan has over 20 years of leadership experience in various roles in the arts and cultural sector including his work at Volunteer Lawyers for the Arts in New York City. Additionally\, he has served in numerous executive and advisory roles across the nation including the Spectrum Dance Theater\, Photographic Center Northwest\, and Seattle Jewish Film Festival.
URL:https://mayfairartstudios.org/event/creative-conversations-your-deduction-checklist/
ATTACH;FMTTYPE=image/jpeg:https://mayfairartstudios.org/wp-content/uploads/2024/03/dan.jpg
END:VEVENT
BEGIN:VEVENT
DTSTART;TZID=America/New_York:20240323T110000
DTEND;TZID=America/New_York:20240323T170000
DTSTAMP:20260424T120110
CREATED:20240212T215410Z
LAST-MODIFIED:20240212T215608Z
UID:7217-1711191600-1711213200@mayfairartstudios.org
SUMMARY:The Dummy Market III
DESCRIPTION:25 vendors\, 2 floors\, 1 location: Mayfair Art Studios. Dive into handcrafted gems\, vintage delights\, and offbeat curiosities at Spartanburg’s premier alternative market.
URL:https://mayfairartstudios.org/event/the-dummy-market-iii/
ATTACH;FMTTYPE=image/jpeg:https://mayfairartstudios.org/wp-content/uploads/2024/02/Dummy-3.jpg
END:VEVENT
BEGIN:VEVENT
DTSTART;TZID=America/New_York:20240222T180000
DTEND;TZID=America/New_York:20240222T193000
DTSTAMP:20260424T120110
CREATED:20240118T200628Z
LAST-MODIFIED:20240123T143650Z
UID:7206-1708624800-1708630200@mayfairartstudios.org
SUMMARY:Creative Conversations: Paths to Publishing
DESCRIPTION:We’re thrilled to invite you to our next workshop that promises to unlock the secrets of successfully becoming a published author.\nJoin Meg Reid\, the Publisher of Hub City Press\, as she demystifies all aspects of publishing and the business of writing. This talk will serve as an overview of the 2024 book landscape and will touch on topics including:\n-Types of publishing models\,\n-Distribution\n-Query letters\n-Agents\n..and much more\, followed by a Q&A!\nMark your calendars and get ready to dive into a world of possibilities on Thursday\, February 22\, 2024 at 6:00pm.\nBe sure to share this event with every aspiring author that you know.
URL:https://mayfairartstudios.org/event/creative-conversations-paths-to-publishing/
ATTACH;FMTTYPE=image/jpeg:https://mayfairartstudios.org/wp-content/uploads/2024/01/Creative.jpg
END:VEVENT
BEGIN:VEVENT
DTSTART;TZID=America/New_York:20240116T180000
DTEND;TZID=America/New_York:20240116T190000
DTSTAMP:20260424T120110
CREATED:20240110T172353Z
LAST-MODIFIED:20240110T172353Z
UID:7202-1705428000-1705431600@mayfairartstudios.org
SUMMARY:Creative Conversations | THE GIG BLUEPRINT: How to Get More Bookings in 2024
DESCRIPTION:We’re thrilled to invite you to our next workshop that promises to unlock the secrets of successfully booking more gigs in 2024 and beyond. Join us as we host Clay Johnson\, professional musician\, to share tips and strategies on how to have a year full of bookings and success.
URL:https://mayfairartstudios.org/event/creative-conversations-the-gig-blueprint-how-to-get-more-bookings-in-2024/
ATTACH;FMTTYPE=image/jpeg:https://mayfairartstudios.org/wp-content/uploads/2024/01/creative-conversations-clay.jpg
END:VEVENT
BEGIN:VEVENT
DTSTART;TZID=America/New_York:20240113T110000
DTEND;TZID=America/New_York:20240113T170000
DTSTAMP:20260424T120110
CREATED:20240110T164740Z
LAST-MODIFIED:20240110T164740Z
UID:7199-1705143600-1705165200@mayfairartstudios.org
SUMMARY:The Dummy Market II
DESCRIPTION:Sometimes a sequel is even better than the original.  \nThis local artisan market is a hub for unique jewelry\, vintage clothing\, handmade items\, and more; all with a distinct alternative flair. Celebrating creativity and community\, this market offers an unforgettable experience for those who cherish the unconventional.
URL:https://mayfairartstudios.org/event/the-dummy-market-ii/
ATTACH;FMTTYPE=image/jpeg:https://mayfairartstudios.org/wp-content/uploads/2024/01/Dummy-Market-II.jpg
END:VEVENT
BEGIN:VEVENT
DTSTART;TZID=America/New_York:20231221T170000
DTEND;TZID=America/New_York:20231221T190000
DTSTAMP:20260424T120110
CREATED:20231206T204543Z
LAST-MODIFIED:20231216T160305Z
UID:7189-1703178000-1703185200@mayfairartstudios.org
SUMMARY:Origami Workshop- Holiday Trees + Scandinavian Stars
DESCRIPTION:Join us at the final Art Walk of 2023 and enjoy two\, FREE origami workshops for all ages hosted by our Resident Artists Nancy Corbin and Mary Lou Hightower! All experience levels are welcome. \nSchedule: \nScandinavian Star (Mary Lou Hightower): 5:00-6:00 \nOrigami Trees (Nancy Corbin): 6:00-7:00 \nFollow the link below to register!
URL:https://mayfairartstudios.org/event/origami-workshop-holiday-trees/
LOCATION:Mayfair Art Studios\, 1885 Hayne Street\, Spartanburg\, SC\, 29301\, United States
ATTACH;FMTTYPE=image/jpeg:https://mayfairartstudios.org/wp-content/uploads/2023/12/oragami.jpg
END:VEVENT
END:VCALENDAR